BEGIN:VCALENDAR
VERSION:2.0
PRODID:-//IEEE Sección España - ECPv6.15.20//NONSGML v1.0//EN
CALSCALE:GREGORIAN
METHOD:PUBLISH
X-WR-CALNAME:IEEE Sección España
X-ORIGINAL-URL:https://ieeespain.org
X-WR-CALDESC:Eventos para IEEE Sección España
REFRESH-INTERVAL;VALUE=DURATION:PT1H
X-Robots-Tag:noindex
X-PUBLISHED-TTL:PT1H
BEGIN:VTIMEZONE
TZID:Europe/Madrid
BEGIN:DAYLIGHT
TZOFFSETFROM:+0100
TZOFFSETTO:+0200
TZNAME:CEST
DTSTART:20230326T010000
END:DAYLIGHT
BEGIN:STANDARD
TZOFFSETFROM:+0200
TZOFFSETTO:+0100
TZNAME:CET
DTSTART:20231029T010000
END:STANDARD
BEGIN:DAYLIGHT
TZOFFSETFROM:+0100
TZOFFSETTO:+0200
TZNAME:CEST
DTSTART:20240331T010000
END:DAYLIGHT
BEGIN:STANDARD
TZOFFSETFROM:+0200
TZOFFSETTO:+0100
TZNAME:CET
DTSTART:20241027T010000
END:STANDARD
BEGIN:DAYLIGHT
TZOFFSETFROM:+0100
TZOFFSETTO:+0200
TZNAME:CEST
DTSTART:20250330T010000
END:DAYLIGHT
BEGIN:STANDARD
TZOFFSETFROM:+0200
TZOFFSETTO:+0100
TZNAME:CET
DTSTART:20251026T010000
END:STANDARD
END:VTIMEZONE
BEGIN:VEVENT
DTSTART;TZID=Europe/Madrid:20241119T180000
DTEND;TZID=Europe/Madrid:20241119T200000
DTSTAMP:20260421T104645
CREATED:20241029T133639Z
LAST-MODIFIED:20241119T170933Z
UID:4405-1732039200-1732046400@ieeespain.org
SUMMARY:IEEE PES ESPAÑA |  | Synchronization in low-inertia power systems
DESCRIPTION:IEEE PES ESPAÑA |  | THE ENERGY TRANSITION | Towards a DECARBONIZED ENERGY | Synchronization in low-inertia power systems\nEstimados Miembros del Capítulo IEEE PES ESPAÑA y de la comunidad de sistemas eléctricos de potencia\,\nDear IEEE PES Spain Members and Colleagues from power and energy community\,\nContinuing with the  series on the topic\nLA TRANSICIÓN ENERGETICA | Hacia una ECONOMIA DESCARBONIZADA\nTHE ENERGY TRANSITION | Towards a DECARBONIZED ECONOMY\nThe energy transition towards a decarbonized economy will present a relevant challenge and a crucial transformation faced by our Society; Decelerating climate change effects is becoming a moral commitment.\nAs a society\, we are part of the decarbonized energy process that goes through the electrification of the economy and it is supported by renewables within a sustainable energy model.\nThis means a change of paradigm which heads towards an immediate exciting future full of challenges at all levels associated with flexibility in its widest conception. It is assumed that a change of paradigm\, that requires changing the focus from active based asset management towards the digitalization that ensures resiliency and security for the future electric systems.\nIn this context\, we need to contribute and stimulate the exchange of ideas from different perspectives and experiences\, creating a framework of reflection through these series of webinars. The expected benefit and impact is the identification of opportunities within the complexity associated with the change of paradigm.\nEn este webinar\, Federico Milano (University College Dublin) nos hablará sobre un nuevo mecanismo de sincronización en sistemas eléctricos de baja inercia.\nTítulo: Synchronization in low-inertia power systems\nContenido: Synchronization generally refers to the ability of a power system to keep a common frequency across the whole grid. This is a direct consequence of the behaviour of synchronous machines\, which can be in steady state only if their rotor speed is synchronous with the frequency of the grid.\nThis seminar introduces a different approach to define the local synchronization of power systems devices. The starting point is the difference between the “complex frequency” of the voltage and current injected at terminals. Complex frequency is novel concept recently proposed by the presenter and that include information on both phase and magnitude rate of changes of voltages and currents. Formal definitions are provided to account for bounded and asymptotic local synchronization. These definitions are suitable for modern power systems as they remove classical assumptions limiting the application of the concept of synchronization to synchronous machines and omitting voltage dynamics. The paper also provides a systematic analytical description of the synchronization mechanisms of common power system devices.\nThe seminar blends theory and a variety of examples that illustrate the practical application of the proposed definitions to power systems modelling and stability analysis.\nPonente: Federico Milano (University College Dublin)\nFecha: Martes 19 de noviembre de 2024\nHora: 18:00 – 20:00 (CET)\nIdioma: Castellano\nLa participación en estos webinar es abierta a cualquier asistente\, incluyendo miembros de IEEE/PES y no-miembros. Sin embargo\, el REGISTRO en el evento es necesario para recibir en enlace URL para el evento WebEx. En enlace de conexión para este  se mandará a los asistentes el día del evento a las 11:30 AM (CET).\nEl registro se cierra el día 19.11.2024 a las 11:30 AM (CET). El acceso al REGISTRO es:\nhttps://events.vtools.ieee.org/event/register/442818\nFor further information:\n: https://events.vtools.ieee.org/m/442818\nThe IEEE PES ESPAÑA System issues participation certificates in these  to the attendees under request. The necessary condition for the System to issue the certificate is that the attendee must participate with at least one voice question during the question time.\nLooking forward to seeing you.\nUn cordial saludo\,\nJosé María Maza-Ortega\nVicepresidente\n(http://enotice.ieee.org/link.cfm?r=2t13DaV1ZQMWdxFUYxE9AA~~&pe=2r6s6cq1ZHJVREEnjcPg615Ax6pY5bB2EtOtT4-0u2m72qPy0vZwRE9mo5IxUHTUd3basEhCJ_h0e96RcJiJxA~~&t=dWSU4qsc8D7Oq-bfMacKwQ~~)\,\n(http://enotice.ieee.org/link.cfm?r=2t13DaV1ZQMWdxFUYxE9AA~~&pe=6KDWid33EaTBI-e5_Rs9WqK142A_ryE8sq-2yQP_PxO6C0QjIOxeNlOScNiFfqtUlnufeNysO01BgoUQ8lmAKA~~&t=dWSU4qsc8D7Oq-bfMacKwQ~~)\nSpeaker(s): Federico Milano\nVirtual: https://events.vtools.ieee.org/m/442818
URL:https://ieeespain.org/event/ieee-pes-espana-synchronization-in-low-inertia-power-systems/
LOCATION:Virtual: https://events.vtools.ieee.org/m/442818
END:VEVENT
END:VCALENDAR