BEGIN:VCALENDAR
VERSION:2.0
PRODID:-//IEEE Sección España - ECPv6.15.20//NONSGML v1.0//EN
CALSCALE:GREGORIAN
METHOD:PUBLISH
X-WR-CALNAME:IEEE Sección España
X-ORIGINAL-URL:https://ieeespain.org
X-WR-CALDESC:Eventos para IEEE Sección España
REFRESH-INTERVAL;VALUE=DURATION:PT1H
X-Robots-Tag:noindex
X-PUBLISHED-TTL:PT1H
BEGIN:VTIMEZONE
TZID:Europe/Madrid
BEGIN:DAYLIGHT
TZOFFSETFROM:+0100
TZOFFSETTO:+0200
TZNAME:CEST
DTSTART:20230326T010000
END:DAYLIGHT
BEGIN:STANDARD
TZOFFSETFROM:+0200
TZOFFSETTO:+0100
TZNAME:CET
DTSTART:20231029T010000
END:STANDARD
BEGIN:DAYLIGHT
TZOFFSETFROM:+0100
TZOFFSETTO:+0200
TZNAME:CEST
DTSTART:20240331T010000
END:DAYLIGHT
BEGIN:STANDARD
TZOFFSETFROM:+0200
TZOFFSETTO:+0100
TZNAME:CET
DTSTART:20241027T010000
END:STANDARD
BEGIN:DAYLIGHT
TZOFFSETFROM:+0100
TZOFFSETTO:+0200
TZNAME:CEST
DTSTART:20250330T010000
END:DAYLIGHT
BEGIN:STANDARD
TZOFFSETFROM:+0200
TZOFFSETTO:+0100
TZNAME:CET
DTSTART:20251026T010000
END:STANDARD
END:VTIMEZONE
BEGIN:VEVENT
DTSTART;TZID=Europe/Madrid:20241120T110000
DTEND;TZID=Europe/Madrid:20241120T120000
DTSTAMP:20260421T104623
CREATED:20240930T093708Z
LAST-MODIFIED:20241119T170933Z
UID:4296-1732100400-1732104000@ieeespain.org
SUMMARY:Distinguished Lecture by Dr. Nizar Zorba - Are UAVs needed for wider implementation of Terahertz Communications?
DESCRIPTION:Wireless backhaul/fronthaul links are proposed as an alternative for massive deployment of small cells because they are more flexible\, easy to deploy\, and cost effective as compared to the traditional optical fiber links. High frequency millimetre wave (mmWave) and terahertz (THz) links meet the capacity requirements of next generation communication networks. However\, mmWave/THz links suffer from susceptibility to weather conditions and require a line-of-sight (LoS) connection\, which is the main hurdle in urban regions. The utilization of unmanned aerial vehicles (UAVs) as a wireless fronthaul hub point between small cells and the core network is the promising solution. These UAV-hubs acting as networked flying platforms (NFPs) provide a possibility of wireless LoS fronthaul link and thus\, enable the implementation of mmWave/THz in commercial systems at a fast pace\, and is expected to boom in the next years.\nIn this talk we will start with a literature review on the chronological order for mmWave/THz communications\, Intelligent reflecting surface (IRS)\, UAVs and multihop technology with the objective to introduce the different technologies that will merge to solve the challenges faced by Terahertz communications. Along the whole talk\, we will highlight the different technologies that enable the tackled scenario\, together with the comparison to the different proposals from the literature/industry to deal with such scenario.\nSpeaker(s): Nizar Zorba\nCentre Technologic de Telecomunicacions de Catalunya (CTTC)\, Castelldefels\, Cataluna\, Spain
URL:https://ieeespain.org/event/distinguished-lecture-by-dr-nizar-zorba-are-uavs-needed-for-wider-implementation-of-terahertz-communications/
LOCATION:Centre Technologic de Telecomunicacions de Catalunya (CTTC)\, Castelldefels\, Cataluna\, Spain
END:VEVENT
END:VCALENDAR